Package: struct Version: 1.16.0 Command: rm -rf struct.buildbin-libdir && mkdir struct.buildbin-libdir && E:\biocbuild\bbs-3.19-bioc\R\bin\R.exe CMD INSTALL --build --library=struct.buildbin-libdir struct_1.16.0.tar.gz StartedAt: 2024-10-17 08:44:29 -0400 (Thu, 17 Oct 2024) EndedAt: 2024-10-17 08:45:50 -0400 (Thu, 17 Oct 2024) EllapsedTime: 81.5 seconds RetCode: 0 Status: OK PackageFile: struct_1.16.0.zip PackageFileSize: 1.543 MiB