Package: struct Version: 1.16.0 Command: /home/biocbuild/bbs-3.19-bioc/R/bin/R CMD build --keep-empty-dirs --no-resave-data struct StartedAt: 2024-10-16 21:04:13 -0400 (Wed, 16 Oct 2024) EndedAt: 2024-10-16 21:04:51 -0400 (Wed, 16 Oct 2024) EllapsedTime: 38.1 seconds RetCode: 0 Status: OK PackageFile: struct_1.16.0.tar.gz PackageFileSize: 596.8 KiB