Package: struct Version: 1.16.0 Command: /Library/Frameworks/R.framework/Resources/bin/R CMD build --keep-empty-dirs --no-resave-data struct StartedAt: 2024-06-10 05:38:16 -0400 (Mon, 10 Jun 2024) EndedAt: 2024-06-10 05:39:21 -0400 (Mon, 10 Jun 2024) EllapsedTime: 65.6 seconds RetCode: 0 Status: OK PackageFile: struct_1.16.0.tar.gz PackageFileSize: 604.4 KiB