Package: strandCheckR Version: 1.22.0 Command: rm -rf strandCheckR.buildbin-libdir && mkdir strandCheckR.buildbin-libdir && F:\biocbuild\bbs-3.19-bioc\R\bin\R.exe CMD INSTALL --build --library=strandCheckR.buildbin-libdir strandCheckR_1.22.0.tar.gz StartedAt: 2024-06-27 09:00:23 -0400 (Thu, 27 Jun 2024) EndedAt: 2024-06-27 09:01:12 -0400 (Thu, 27 Jun 2024) EllapsedTime: 48.7 seconds RetCode: 0 Status: OK PackageFile: strandCheckR_1.22.0.zip PackageFileSize: 935.6 KiB