Package: strandCheckR Version: 1.22.0 Command: rm -rf strandCheckR.buildbin-libdir && mkdir strandCheckR.buildbin-libdir && /Users/biocbuild/BBS/utils/build-universal.sh strandCheckR_1.22.0.tar.gz /Library/Frameworks/R.framework/Resources/bin/R strandCheckR.buildbin-libdir StartedAt: 2024-06-11 13:26:55 -0400 (Tue, 11 Jun 2024) EndedAt: 2024-06-11 13:28:12 -0400 (Tue, 11 Jun 2024) EllapsedTime: 77.2 seconds RetCode: 0 Status: OK PackageFile: strandCheckR_1.22.0.tgz PackageFileSize: 1.294 MiB