Package: strandCheckR Version: 1.22.0 Command: rm -rf strandCheckR.buildbin-libdir && mkdir strandCheckR.buildbin-libdir && /Users/biocbuild/BBS/utils/build-universal.sh strandCheckR_1.22.0.tar.gz /Library/Frameworks/R.framework/Resources/bin/R strandCheckR.buildbin-libdir StartedAt: 2024-10-15 20:31:09 -0400 (Tue, 15 Oct 2024) EndedAt: 2024-10-15 20:32:02 -0400 (Tue, 15 Oct 2024) EllapsedTime: 53.2 seconds RetCode: 0 Status: OK PackageFile: strandCheckR_1.22.0.tgz PackageFileSize: 1.295 MiB