Package: strandCheckR Version: 1.22.0 Maintainer: Thu-Hien To MaintainerEmail: tothuhien at gmail.com git_url: https://git.bioconductor.org/packages/strandCheckR git_branch: RELEASE_3_19 git_last_commit: e0e1f75 git_last_commit_date: 2024-04-30 11:08:01 -0400 (Tue, 30 Apr 2024)