Package: stepNorm Version: 1.76.0 Command: /home/biocbuild/bbs-3.19-bioc/R/bin/R CMD build --keep-empty-dirs --no-resave-data stepNorm StartedAt: 2024-10-16 21:03:29 -0400 (Wed, 16 Oct 2024) EndedAt: 2024-10-16 21:03:30 -0400 (Wed, 16 Oct 2024) EllapsedTime: 1.0 seconds RetCode: 0 Status: OK PackageFile: stepNorm_1.76.0.tar.gz PackageFileSize: 460.2 KiB