Package: stepNorm Version: 1.76.0 Command: /Library/Frameworks/R.framework/Resources/bin/R CMD build --keep-empty-dirs --no-resave-data stepNorm StartedAt: 2024-10-16 23:46:49 -0400 (Wed, 16 Oct 2024) EndedAt: 2024-10-16 23:46:52 -0400 (Wed, 16 Oct 2024) EllapsedTime: 3.0 seconds RetCode: 0 Status: OK PackageFile: stepNorm_1.76.0.tar.gz PackageFileSize: 460.2 KiB