Package: stepNorm Version: 1.76.0 Command: /home/biocbuild/R/R-beta-2024-04-15_r86425/bin/R CMD build --keep-empty-dirs --no-resave-data stepNorm StartedAt: 2024-05-09 03:56:35 -0000 (Thu, 09 May 2024) EndedAt: 2024-05-09 03:56:36 -0000 (Thu, 09 May 2024) EllapsedTime: 1.0 seconds RetCode: 0 Status: OK PackageFile: stepNorm_1.76.0.tar.gz PackageFileSize: 460.1 KiB