Package: stepNorm Version: 1.76.0 Command: /Library/Frameworks/R.framework/Resources/bin/R CMD check --install=check:stepNorm.install-out.txt --library=/Library/Frameworks/R.framework/Resources/library --no-vignettes --timings stepNorm_1.76.0.tar.gz StartedAt: 2024-10-18 14:11:03 -0400 (Fri, 18 Oct 2024) EndedAt: 2024-10-18 14:12:43 -0400 (Fri, 18 Oct 2024) EllapsedTime: 100.2 seconds RetCode: 0 Status: OK CheckDir: stepNorm.Rcheck Warnings: 0