Package: stepNorm Version: 1.76.0 Command: rm -rf stepNorm.buildbin-libdir && mkdir stepNorm.buildbin-libdir && /Users/biocbuild/BBS/utils/build-universal.sh stepNorm_1.76.0.tar.gz /Library/Frameworks/R.framework/Resources/bin/R stepNorm.buildbin-libdir StartedAt: 2024-10-15 20:31:02 -0400 (Tue, 15 Oct 2024) EndedAt: 2024-10-15 20:31:09 -0400 (Tue, 15 Oct 2024) EllapsedTime: 6.8 seconds RetCode: 0 Status: OK PackageFile: stepNorm_1.76.0.tgz PackageFileSize: 551.6 KiB