Package: statTarget Version: 1.34.0 Command: rm -rf statTarget.buildbin-libdir && mkdir statTarget.buildbin-libdir && E:\biocbuild\bbs-3.19-bioc\R\bin\R.exe CMD INSTALL --build --library=statTarget.buildbin-libdir statTarget_1.34.0.tar.gz StartedAt: 2024-10-17 08:44:16 -0400 (Thu, 17 Oct 2024) EndedAt: 2024-10-17 08:44:50 -0400 (Thu, 17 Oct 2024) EllapsedTime: 33.7 seconds RetCode: 0 Status: OK PackageFile: statTarget_1.34.0.zip PackageFileSize: 975.9 KiB