Package: statTarget Version: 1.34.0 Command: /home/biocbuild/bbs-3.19-bioc/R/bin/R CMD build --keep-empty-dirs --no-resave-data statTarget StartedAt: 2024-10-16 21:03:28 -0400 (Wed, 16 Oct 2024) EndedAt: 2024-10-16 21:03:37 -0400 (Wed, 16 Oct 2024) EllapsedTime: 9.0 seconds RetCode: 0 Status: OK PackageFile: statTarget_1.34.0.tar.gz PackageFileSize: 779 KiB