Package: statTarget Version: 1.34.0 Command: /Library/Frameworks/R.framework/Resources/bin/R CMD check --install=check:statTarget.install-out.txt --library=/Library/Frameworks/R.framework/Resources/library --no-vignettes --timings statTarget_1.34.0.tar.gz StartedAt: 2024-10-17 13:57:30 -0400 (Thu, 17 Oct 2024) EndedAt: 2024-10-17 13:59:11 -0400 (Thu, 17 Oct 2024) EllapsedTime: 100.1 seconds RetCode: 0 Status: OK CheckDir: statTarget.Rcheck Warnings: 0