Package: statTarget Version: 1.34.0 Command: /Library/Frameworks/R.framework/Resources/bin/R CMD check --install=check:statTarget.install-out.txt --library=/Library/Frameworks/R.framework/Resources/library --no-vignettes --timings statTarget_1.34.0.tar.gz StartedAt: 2024-10-18 14:10:07 -0400 (Fri, 18 Oct 2024) EndedAt: 2024-10-18 14:11:03 -0400 (Fri, 18 Oct 2024) EllapsedTime: 55.3 seconds RetCode: 0 Status: OK CheckDir: statTarget.Rcheck Warnings: 0