Package: standR Version: 1.8.0 Command: chmod a+r standR -R && E:\biocbuild\bbs-3.19-bioc\R\bin\R.exe CMD build --keep-empty-dirs --no-resave-data standR StartedAt: 2024-10-16 22:12:37 -0400 (Wed, 16 Oct 2024) EndedAt: 2024-10-16 22:14:35 -0400 (Wed, 16 Oct 2024) EllapsedTime: 118.3 seconds RetCode: 0 Status: OK PackageFile: standR_1.8.0.tar.gz PackageFileSize: 2.002 MiB