Package: standR Version: 1.8.0 Command: rm -rf standR.buildbin-libdir && mkdir standR.buildbin-libdir && /Users/biocbuild/BBS/utils/build-universal.sh standR_1.8.0.tar.gz /Library/Frameworks/R.framework/Resources/bin/R standR.buildbin-libdir StartedAt: 2024-06-11 13:26:01 -0400 (Tue, 11 Jun 2024) EndedAt: 2024-06-11 13:26:56 -0400 (Tue, 11 Jun 2024) EllapsedTime: 54.7 seconds RetCode: 0 Status: OK PackageFile: standR_1.8.0.tgz PackageFileSize: 3.116 MiB