Package: stJoincount Version: 1.6.0 Command: chmod a+r stJoincount -R && E:\biocbuild\bbs-3.19-bioc\R\bin\R.exe CMD build --keep-empty-dirs --no-resave-data stJoincount StartedAt: 2024-10-16 22:13:23 -0400 (Wed, 16 Oct 2024) EndedAt: 2024-10-16 22:15:00 -0400 (Wed, 16 Oct 2024) EllapsedTime: 97.7 seconds RetCode: 0 Status: OK PackageFile: stJoincount_1.6.0.tar.gz PackageFileSize: 2.606 MiB