Package: stJoincount Version: 1.6.0 Command: rm -rf stJoincount.buildbin-libdir && mkdir stJoincount.buildbin-libdir && E:\biocbuild\bbs-3.19-bioc\R\bin\R.exe CMD INSTALL --build --library=stJoincount.buildbin-libdir stJoincount_1.6.0.tar.gz StartedAt: 2024-10-17 08:44:20 -0400 (Thu, 17 Oct 2024) EndedAt: 2024-10-17 08:45:26 -0400 (Thu, 17 Oct 2024) EllapsedTime: 65.6 seconds RetCode: 0 Status: OK PackageFile: stJoincount_1.6.0.zip PackageFileSize: 2.642 MiB