Package: stJoincount Version: 1.6.0 Command: F:\biocbuild\bbs-3.19-bioc\R\bin\R.exe CMD INSTALL stJoincount StartedAt: 2024-06-26 16:31:51 -0400 (Wed, 26 Jun 2024) EndedAt: 2024-06-26 16:33:06 -0400 (Wed, 26 Jun 2024) EllapsedTime: 75.0 seconds RetCode: 0 Status: OK