Package: stJoincount Version: 1.6.0 Command: F:\biocbuild\bbs-3.19-bioc\R\bin\R.exe CMD check --no-multiarch --install=check:stJoincount.install-out.txt --library=F:\biocbuild\bbs-3.19-bioc\R\library --no-vignettes --timings stJoincount_1.6.0.tar.gz StartedAt: 2024-06-27 06:41:57 -0400 (Thu, 27 Jun 2024) EndedAt: 2024-06-27 06:50:06 -0400 (Thu, 27 Jun 2024) EllapsedTime: 489.5 seconds RetCode: 0 Status: OK CheckDir: stJoincount.Rcheck Warnings: 0