Package: stJoincount Version: 1.6.0 Maintainer: Jiarong Song MaintainerEmail: songjiar at usc.edu git_url: https://git.bioconductor.org/packages/stJoincount git_branch: RELEASE_3_19 git_last_commit: 6d5c7d0 git_last_commit_date: 2024-04-30 11:45:38 -0400 (Tue, 30 Apr 2024)