Package: ssviz Version: 1.38.0 Command: rm -rf ssviz.buildbin-libdir && mkdir ssviz.buildbin-libdir && E:\biocbuild\bbs-3.19-bioc\R\bin\R.exe CMD INSTALL --build --library=ssviz.buildbin-libdir ssviz_1.38.0.tar.gz StartedAt: 2024-10-17 08:44:02 -0400 (Thu, 17 Oct 2024) EndedAt: 2024-10-17 08:44:29 -0400 (Thu, 17 Oct 2024) EllapsedTime: 26.7 seconds RetCode: 0 Status: OK PackageFile: ssviz_1.38.0.zip PackageFileSize: 976.6 KiB