Package: ssviz Version: 1.38.0 Command: rm -rf ssviz.buildbin-libdir && mkdir ssviz.buildbin-libdir && /Users/biocbuild/BBS/utils/build-universal.sh ssviz_1.38.0.tar.gz /Library/Frameworks/R.framework/Resources/bin/R ssviz.buildbin-libdir StartedAt: 2024-10-17 17:18:09 -0400 (Thu, 17 Oct 2024) EndedAt: 2024-10-17 17:18:48 -0400 (Thu, 17 Oct 2024) EllapsedTime: 39.1 seconds RetCode: 0 Status: OK PackageFile: ssviz_1.38.0.tgz PackageFileSize: 1.114 MiB