Package: ssrch Version: 1.20.0 Command: F:\biocbuild\bbs-3.19-bioc\R\bin\R.exe CMD INSTALL ssrch StartedAt: 2024-06-26 16:18:01 -0400 (Wed, 26 Jun 2024) EndedAt: 2024-06-26 16:18:10 -0400 (Wed, 26 Jun 2024) EllapsedTime: 9.5 seconds RetCode: 0 Status: OK