Package: ssrch Version: 1.20.0 Command: chmod a+r ssrch -R && F:\biocbuild\bbs-3.19-bioc\R\bin\R.exe CMD build --keep-empty-dirs --no-resave-data ssrch StartedAt: 2024-06-26 22:13:50 -0400 (Wed, 26 Jun 2024) EndedAt: 2024-06-26 22:14:07 -0400 (Wed, 26 Jun 2024) EllapsedTime: 16.6 seconds RetCode: 0 Status: OK PackageFile: ssrch_1.20.0.tar.gz PackageFileSize: 1.444 MiB