Package: ssrch Version: 1.20.0 Command: rm -rf ssrch.buildbin-libdir && mkdir ssrch.buildbin-libdir && F:\biocbuild\bbs-3.19-bioc\R\bin\R.exe CMD INSTALL --build --library=ssrch.buildbin-libdir ssrch_1.20.0.tar.gz StartedAt: 2024-06-27 09:00:01 -0400 (Thu, 27 Jun 2024) EndedAt: 2024-06-27 09:00:19 -0400 (Thu, 27 Jun 2024) EllapsedTime: 18.8 seconds RetCode: 0 Status: OK PackageFile: ssrch_1.20.0.zip PackageFileSize: 1.387 MiB