Package: ssrch Version: 1.20.0 Command: /Library/Frameworks/R.framework/Resources/bin/R CMD check --install=check:ssrch.install-out.txt --library=/Library/Frameworks/R.framework/Resources/library --no-vignettes --timings ssrch_1.20.0.tar.gz StartedAt: 2024-10-17 13:54:54 -0400 (Thu, 17 Oct 2024) EndedAt: 2024-10-17 13:56:02 -0400 (Thu, 17 Oct 2024) EllapsedTime: 68.6 seconds RetCode: 0 Status: OK CheckDir: ssrch.Rcheck Warnings: 0