Package: ssrch Version: 1.20.0 Command: /Library/Frameworks/R.framework/Resources/bin/R CMD build --keep-empty-dirs --no-resave-data ssrch StartedAt: 2024-10-16 23:45:43 -0400 (Wed, 16 Oct 2024) EndedAt: 2024-10-16 23:46:05 -0400 (Wed, 16 Oct 2024) EllapsedTime: 22.0 seconds RetCode: 0 Status: OK PackageFile: ssrch_1.20.0.tar.gz PackageFileSize: 1.444 MiB