Package: ssrch Version: 1.20.0 Command: /Library/Frameworks/R.framework/Resources/bin/R CMD check --install=check:ssrch.install-out.txt --library=/Library/Frameworks/R.framework/Resources/library --no-vignettes --timings ssrch_1.20.0.tar.gz StartedAt: 2024-06-09 23:22:41 -0400 (Sun, 09 Jun 2024) EndedAt: 2024-06-09 23:23:23 -0400 (Sun, 09 Jun 2024) EllapsedTime: 41.7 seconds RetCode: 0 Status: OK CheckDir: ssrch.Rcheck Warnings: 0