Package: ssrch Version: 1.20.0 Command: rm -rf ssrch.buildbin-libdir && mkdir ssrch.buildbin-libdir && /Users/biocbuild/BBS/utils/build-universal.sh ssrch_1.20.0.tar.gz /Library/Frameworks/R.framework/Resources/bin/R ssrch.buildbin-libdir StartedAt: 2024-06-10 00:42:16 -0400 (Mon, 10 Jun 2024) EndedAt: 2024-06-10 00:42:24 -0400 (Mon, 10 Jun 2024) EllapsedTime: 8.0 seconds RetCode: 0 Status: OK PackageFile: ssrch_1.20.0.tgz PackageFileSize: 1.398 MiB