Package: ssrch Version: 1.20.0 Command: /home/biocbuild/R/R-beta-2024-04-15_r86425/bin/R CMD check --install=check:ssrch.install-out.txt --library=/home/biocbuild/R/R-beta-2024-04-15_r86425/site-library --no-vignettes --timings ssrch_1.20.0.tar.gz StartedAt: 2024-05-08 12:23:08 -0000 (Wed, 08 May 2024) EndedAt: 2024-05-08 12:23:40 -0000 (Wed, 08 May 2024) EllapsedTime: 32.0 seconds RetCode: 0 Status: OK CheckDir: ssrch.Rcheck Warnings: 0