Package: ssrch Version: 1.20.0 Command: rm -rf ssrch.buildbin-libdir && mkdir ssrch.buildbin-libdir && /Users/biocbuild/BBS/utils/build-universal.sh ssrch_1.20.0.tar.gz /Library/Frameworks/R.framework/Resources/bin/R ssrch.buildbin-libdir StartedAt: 2024-10-15 20:30:02 -0400 (Tue, 15 Oct 2024) EndedAt: 2024-10-15 20:30:11 -0400 (Tue, 15 Oct 2024) EllapsedTime: 9.0 seconds RetCode: 0 Status: OK PackageFile: ssrch_1.20.0.tgz PackageFileSize: 1.393 MiB