Package: ssize Version: 1.78.0 Command: E:\biocbuild\bbs-3.19-bioc\R\bin\R.exe CMD check --no-multiarch --install=check:ssize.install-out.txt --library=E:\biocbuild\bbs-3.19-bioc\R\library --no-vignettes --timings ssize_1.78.0.tar.gz StartedAt: 2024-10-17 06:13:05 -0400 (Thu, 17 Oct 2024) EndedAt: 2024-10-17 06:13:41 -0400 (Thu, 17 Oct 2024) EllapsedTime: 36.0 seconds RetCode: 0 Status: OK CheckDir: ssize.Rcheck Warnings: 0