Package: sscu Version: 2.34.0 Command: E:\biocbuild\bbs-3.19-bioc\R\bin\R.exe CMD check --no-multiarch --install=check:sscu.install-out.txt --library=E:\biocbuild\bbs-3.19-bioc\R\library --no-vignettes --timings sscu_2.34.0.tar.gz StartedAt: 2024-10-17 06:12:27 -0400 (Thu, 17 Oct 2024) EndedAt: 2024-10-17 06:14:21 -0400 (Thu, 17 Oct 2024) EllapsedTime: 114.0 seconds RetCode: 0 Status: WARNINGS CheckDir: sscu.Rcheck Warnings: 1