Package: sscu Version: 2.34.0 Command: chmod a+r sscu -R && E:\biocbuild\bbs-3.19-bioc\R\bin\R.exe CMD build --keep-empty-dirs --no-resave-data sscu StartedAt: 2024-10-16 22:11:36 -0400 (Wed, 16 Oct 2024) EndedAt: 2024-10-16 22:11:56 -0400 (Wed, 16 Oct 2024) EllapsedTime: 20.2 seconds RetCode: 0 Status: OK PackageFile: sscu_2.34.0.tar.gz PackageFileSize: 1.287 MiB