Package: sscu Version: 2.34.0 Command: rm -rf sscu.buildbin-libdir && mkdir sscu.buildbin-libdir && E:\biocbuild\bbs-3.19-bioc\R\bin\R.exe CMD INSTALL --build --library=sscu.buildbin-libdir sscu_2.34.0.tar.gz StartedAt: 2024-10-17 08:43:48 -0400 (Thu, 17 Oct 2024) EndedAt: 2024-10-17 08:44:11 -0400 (Thu, 17 Oct 2024) EllapsedTime: 23.4 seconds RetCode: 0 Status: OK PackageFile: sscu_2.34.0.zip PackageFileSize: 1.325 MiB