Package: sscu Version: 2.34.0 Command: rm -rf sscu.buildbin-libdir && mkdir sscu.buildbin-libdir && F:\biocbuild\bbs-3.19-bioc\R\bin\R.exe CMD INSTALL --build --library=sscu.buildbin-libdir sscu_2.34.0.tar.gz StartedAt: 2024-06-27 08:59:51 -0400 (Thu, 27 Jun 2024) EndedAt: 2024-06-27 09:00:10 -0400 (Thu, 27 Jun 2024) EllapsedTime: 19.6 seconds RetCode: 0 Status: OK PackageFile: sscu_2.34.0.zip PackageFileSize: 1.325 MiB