Package: sscu Version: 2.34.0 Command: /home/biocbuild/bbs-3.19-bioc/R/bin/R CMD check --install=check:sscu.install-out.txt --library=/home/biocbuild/bbs-3.19-bioc/R/site-library --timings sscu_2.34.0.tar.gz StartedAt: 2024-10-17 05:34:54 -0400 (Thu, 17 Oct 2024) EndedAt: 2024-10-17 05:36:20 -0400 (Thu, 17 Oct 2024) EllapsedTime: 86.1 seconds RetCode: 0 Status: WARNINGS CheckDir: sscu.Rcheck Warnings: 1