Package: sscu Version: 2.34.0 Command: /Library/Frameworks/R.framework/Resources/bin/R CMD check --install=check:sscu.install-out.txt --library=/Library/Frameworks/R.framework/Resources/library --no-vignettes --timings sscu_2.34.0.tar.gz StartedAt: 2024-10-17 13:52:55 -0400 (Thu, 17 Oct 2024) EndedAt: 2024-10-17 13:56:40 -0400 (Thu, 17 Oct 2024) EllapsedTime: 224.8 seconds RetCode: 0 Status: WARNINGS CheckDir: sscu.Rcheck Warnings: 1