Package: sscu Version: 2.34.0 Command: /Library/Frameworks/R.framework/Resources/bin/R CMD check --install=check:sscu.install-out.txt --library=/Library/Frameworks/R.framework/Resources/library --no-vignettes --timings sscu_2.34.0.tar.gz StartedAt: 2024-06-09 23:22:29 -0400 (Sun, 09 Jun 2024) EndedAt: 2024-06-09 23:24:15 -0400 (Sun, 09 Jun 2024) EllapsedTime: 106.1 seconds RetCode: 0 Status: WARNINGS CheckDir: sscu.Rcheck Warnings: 1