Package: sscu Version: 2.34.0 Command: /Library/Frameworks/R.framework/Resources/bin/R CMD build --keep-empty-dirs --no-resave-data sscu StartedAt: 2024-06-10 05:33:47 -0400 (Mon, 10 Jun 2024) EndedAt: 2024-06-10 05:34:10 -0400 (Mon, 10 Jun 2024) EllapsedTime: 23.2 seconds RetCode: 0 Status: OK PackageFile: sscu_2.34.0.tar.gz PackageFileSize: 1.287 MiB