Package: sscu Version: 2.34.0 Command: /Library/Frameworks/R.framework/Resources/bin/R CMD INSTALL sscu StartedAt: 2024-10-16 15:51:58 -0400 (Wed, 16 Oct 2024) EndedAt: 2024-10-16 15:52:11 -0400 (Wed, 16 Oct 2024) EllapsedTime: 13.0 seconds RetCode: 0 Status: OK