Package: ssPATHS Version: 1.18.0 Command: E:\biocbuild\bbs-3.19-bioc\R\bin\R.exe CMD INSTALL ssPATHS StartedAt: 2024-10-16 17:06:20 -0400 (Wed, 16 Oct 2024) EndedAt: 2024-10-16 17:06:49 -0400 (Wed, 16 Oct 2024) EllapsedTime: 28.8 seconds RetCode: 0 Status: OK