Package: ssPATHS Version: 1.18.0 Command: chmod a+r ssPATHS -R && E:\biocbuild\bbs-3.19-bioc\R\bin\R.exe CMD build --keep-empty-dirs --no-resave-data ssPATHS StartedAt: 2024-10-16 22:12:17 -0400 (Wed, 16 Oct 2024) EndedAt: 2024-10-16 22:13:06 -0400 (Wed, 16 Oct 2024) EllapsedTime: 49.3 seconds RetCode: 0 Status: OK PackageFile: ssPATHS_1.18.0.tar.gz PackageFileSize: 3.581 MiB