Package: ssPATHS Version: 1.18.0 Command: /Library/Frameworks/R.framework/Resources/bin/R CMD build --keep-empty-dirs --no-resave-data ssPATHS StartedAt: 2024-10-17 10:09:37 -0400 (Thu, 17 Oct 2024) EndedAt: 2024-10-17 10:10:26 -0400 (Thu, 17 Oct 2024) EllapsedTime: 48.2 seconds RetCode: 0 Status: OK PackageFile: ssPATHS_1.18.0.tar.gz PackageFileSize: 3.672 MiB