Package: srnadiff Version: 1.24.0 Command: rm -rf srnadiff.buildbin-libdir && mkdir srnadiff.buildbin-libdir && E:\biocbuild\bbs-3.19-bioc\R\bin\R.exe CMD INSTALL --build --library=srnadiff.buildbin-libdir srnadiff_1.24.0.tar.gz StartedAt: 2024-10-17 08:43:46 -0400 (Thu, 17 Oct 2024) EndedAt: 2024-10-17 08:45:20 -0400 (Thu, 17 Oct 2024) EllapsedTime: 94.3 seconds RetCode: 0 Status: OK PackageFile: srnadiff_1.24.0.zip PackageFileSize: 3.054 MiB