Package: srnadiff Version: 1.24.0 Command: /Library/Frameworks/R.framework/Resources/bin/R CMD check --install=check:srnadiff.install-out.txt --library=/Library/Frameworks/R.framework/Resources/library --no-vignettes --timings srnadiff_1.24.0.tar.gz StartedAt: 2024-06-09 23:21:55 -0400 (Sun, 09 Jun 2024) EndedAt: 2024-06-09 23:30:58 -0400 (Sun, 09 Jun 2024) EllapsedTime: 542.9 seconds RetCode: 0 Status: WARNINGS CheckDir: srnadiff.Rcheck Warnings: 2