Package: srnadiff Version: 1.24.0 Command: rm -rf srnadiff.buildbin-libdir && mkdir srnadiff.buildbin-libdir && /Users/biocbuild/BBS/utils/build-universal.sh srnadiff_1.24.0.tar.gz /Library/Frameworks/R.framework/Resources/bin/R srnadiff.buildbin-libdir StartedAt: 2024-06-10 00:42:08 -0400 (Mon, 10 Jun 2024) EndedAt: 2024-06-10 00:43:52 -0400 (Mon, 10 Jun 2024) EllapsedTime: 104.1 seconds RetCode: 0 Status: OK PackageFile: srnadiff_1.24.0.tgz PackageFileSize: 2.753 MiB